BEGIN:VCALENDAR
PRODID:-//New Fellowship Church//A Fresh Move of God//EN
VERSION:2.0
CALSCALE:GREGORIAN
METHOD:PUBLISH
X-WR-CALNAME:New Fellowship Church » All Calendars
X-WR-TIMEZONE:UTC+0
X-ORIGINAL-URL:http://newfellowshipchurchwa.org/?feed=ical&ftcalendar=all
BEGIN:VEVENT
DTSTAMP:20130423T225415Z
LAST-MODIFIED:20141030T031522Z
CREATED:20130423T225415Z
DTSTART;VALUE=DATE:20130212
DTEND;VALUE=DATE:20130425
RRULE:FREQ=YEARLY;INTERVAL=1
SUMMARY:Pastor and First Lady
URL;VALUE=URI:http://newfellowshipchurchwa.org/?page_id=182
UID:2013021220130425-182-http://newfellowshipchurchwa.org/?page_id=182
DESCRIPTION:Pastor Manuel Johnson and First Lady Regina Johnson are an influential couple in the Kingdom of God. Their message of hope and love through forgiveness and living a life of holiness has truly set them forth on a stage of leadership in today&#8217;s world.
TRANSP:TRANSPARENT
CLASS:PUBLIC
STATUS:CONFIRMED
END:VEVENT
BEGIN:VEVENT
DTSTAMP:20130423T225415Z
LAST-MODIFIED:20141030T031522Z
CREATED:20130423T225415Z
DTSTART;VALUE=DATE:20130331
DTEND;VALUE=DATE:20130425
RRULE:FREQ=YEARLY;INTERVAL=1
SUMMARY:Pastor and First Lady
URL;VALUE=URI:http://newfellowshipchurchwa.org/?page_id=182
UID:2013033120130425-182-http://newfellowshipchurchwa.org/?page_id=182
DESCRIPTION:Pastor Manuel Johnson and First Lady Regina Johnson are an influential couple in the Kingdom of God. Their message of hope and love through forgiveness and living a life of holiness has truly set them forth on a stage of leadership in today&#8217;s world.
TRANSP:TRANSPARENT
CLASS:PUBLIC
STATUS:CONFIRMED
END:VEVENT
END:VCALENDAR